BEGIN:VCALENDAR
VERSION:2.0
PRODID:https://www.citus-kalix.fr
X-PUBLISHED-TTL:P1W
BEGIN:VEVENT
UID:69eb19c5884bd
DTSTART;VALUE=DATE:20250929
SEQUENCE:0
TRANSP:OPAQUE
DTEND;VALUE=DATE:20251002
URL:https://www.citus-kalix.fr/en/exhibitions/citus-kalix-at-pack-expo-las-
 vegas-2025-experience-high-speed-tube-filling-in-action
LOCATION:Las Vegas\, Nevada (USA)
SUMMARY:Citus Kalix at PACK EXPO Las Vegas 2025: Experience High-Speed Tube
  Filling in Action
CLASS:PUBLIC
X-ALT-DESC;FMTTYPE=text/html:<ul><br />\n<li>\n<p><strong>PACK EXPO Las Veg
 as | West Hall\, Coesia booth W-1064</strong></p>\n</li>\n<li>\n<p><strong
 >Complimentary registration with our exclusive code&nbsp\;</strong></p>\n<
 /li>\n<li>\n<p><strong>Live demonstration of the KX803 automatic tube fill
 ing machine&nbsp\;</strong></p>\n</li>\n</ul>\n\n<p>Join <strong>Citus Kal
 ix</strong> at <strong>PACK EXPO Las Vegas 2025</strong> and explore how o
 ur innovation in <strong>tube filling technology</strong> is making waves 
 in the <strong>Pharma and Beauty</strong> sectors.&nbsp\;</p>\n\n<h2>See t
 he KX803 Live in Action</h2>\n\n<p>Engineered for performance and simplici
 ty\, the <strong>KX803</strong> delivers up to <strong>80 tubes per minute
 </strong> and is ideal for use in controlled environments. This compact\, 
 high-speed machine offers <strong>quick\, tool-free cleaning</strong> and 
 <strong>ultra-fast changeovers</strong>—just <strong>5 minutes for a new
  bulk</strong> and <strong>10 minutes for a new format</strong>.<br />\nEa
 sy to use\, even for new operators after a short training\, the KX803 is t
 he perfect solution for companies seeking <strong>efficiency without compr
 omising precision</strong>.</p>\n\n<h3>Why Visit Us?</h3>\n\n<ul>\n<li>\n<
 p>Learn how the KX803 boosts productivity and reduces downtime</p>\n</li>\
 n<li>\n<p>Get hands-on with our intuitive\, user-friendly technology</p>\n
 </li>\n<li>\n<p>Meet Citus Kalix experts and get tailored insights for you
 r production needs</p>\n</li>\n</ul>\n\n<p>Don’t miss the KX803 in actio
 n—alongside exciting innovations from our Coesia sister companies includ
 ing FlexLink\, Hapa\, R.A Jones\, MGS\, Norden\, Volpak\, Enflex\, ACMA\, 
 and more.</p>\n\n<p>While you're there\, be sure to visit Coesia’s dedic
 ated <strong>Customer Service area</strong> to learn how we support you wi
 th <strong>digitally enhanced service solutions</strong> designed for long
 -term performance.</p>\n\n<p><strong>Meet us</strong><br />\n📍 Visit us
  at PACK EXPO Las Vegas 2025<br />\n🗓 September 29 – October 1<br />\
 n📌 Las Vegas Convention Center\, West Hall\, Booth W-1064</p>\n\n<div a
 lign=\"left\">\n<p align=\"left\" style=\"color: #ffffff\; font-size: 12px
 \; text-transform: uppercase\; \"><a class=\"btn-red\" href=\"http://nvyt.
 es/f0206e79e39a1b648cae\" rel=\"noreferrer noopener\" style=\"text-decorat
 ion: none\; color: #FFFFFF\; \" target=\"_blank\">GET COMPLIMENTARY REGIST
 RATION</a>&nbsp\;&nbsp\;<span style=\"color: #222222\; font-size: 18px\; \
 ">- use code&nbsp\;<strong>95Y68</strong></span></p>\n</div>\n\, coesia_ed
 itor_manager
X-MICROSOFT-CDO-ALLDAYEVENT:TRUE
DTSTAMP:20260424T092037Z
END:VEVENT
END:VCALENDAR