BEGIN:VCALENDAR
VERSION:2.0
PRODID:https://www.citus-kalix.fr
X-PUBLISHED-TTL:P1W
BEGIN:VEVENT
UID:69ead8c9aaa07
DTSTART;VALUE=DATE:20250527
SEQUENCE:0
TRANSP:OPAQUE
DTEND;VALUE=DATE:20250531
URL:https://www.citus-kalix.fr/en/exhibitions/citus-kalix-showcases-kx803-a
 t-ipack-ima-2025-precision-and-efficiency-in-tube-filling
LOCATION:Fiera Milano\, Milan\, Italy
SUMMARY:Citus Kalix Showcases KX803 at IPACK IMA 2025: Precision and Effici
 ency in Tube Filling 
CLASS:PUBLIC
X-ALT-DESC;FMTTYPE=text/html:<ul>\n<li>\n<p>IPACK-IMA\, Fiera Milano\, Mila
 n\, Italy &nbsp\;</p>\n</li>\n<li>\n<p>Coesia Booth | Hall 7\, Booth A46
 -B45 &nbsp\;</p>\n</li>\n<li>\n<p>Learn more about packaging automation 
 for Home and Personal Care &nbsp\;</p>\n</li>\n</ul>\n\n<p>Citus Kalix\,
  a Coesia company specializing in high-performance packaging machinery\, w
 ill be present at <strong>IPACK IMA 2025</strong>\, the international trad
 e fair dedicated to processing and packaging innovations. Alongside its si
 ster companies ACMA\, Atlantic Zeiser\, FlexLink\, Norden\, Volpak\, and P
 WR\, a Coesia partner\, Citus Kalix will showcase solutions engineered to 
 optimize production efficiency\, minimize downtime\, and enhance user expe
 rience. &nbsp\;</p>\n\n<p>At the forefront of Citus Kalix’s exhibition
  is the <strong>KX803 automatic tube filling machine</strong>\, a solution
  designed to meet the rigorous demands of the <strong>pharma and beauty </
 strong>industries. With a production capacity of up to <strong>80 tubes pe
 r minute</strong>\, the KX803 is an ideal choice for manufacturing in cont
 rolled environments. Its intuitive design prioritizes <strong>ease of use 
 and efficiency</strong>\, ensuring that operators can quickly master its o
 peration with minimal training. &nbsp\;</p>\n\n<p>Key features of the <s
 trong>KX803 automatic tube filling machine</strong>: &nbsp\;</p>\n\n<ul>
 \n<li>\n<p><strong>Superfast Changeovers</strong>: Switch to a <strong>new
  bulk in just 5 minutes </strong>and adapt to a <strong>new format in only
  10 minutes\,</strong> significantly reducing downtime. &nbsp\;</p>\n</l
 i>\n<li>\n<p><strong>User-Friendly Operation</strong>: The machine’s des
 ign allows virtually anyone to operate it after a short introductory train
 ing session. &nbsp\;</p>\n</li>\n<li>\n<p><strong>Effortless Cleaning</s
 trong>: The filling unit can be disassembled <strong>without tools</strong
 >\, making maintenance and cleaning straightforward. &nbsp\;</p>\n</li>\
 n</ul>\n\n<p>Visitors at IPACK IMA 2025 will have the opportunity to witne
 ss the <strong>KX803 in action</strong> and explore how it can enhance tub
 e filling processes with <strong>unmatched efficiency and ease of use</str
 ong>. Citus Kalix experts will be available to provide insights into the m
 achine’s capabilities\, discuss industry applications\, and demonstrate 
 how this cutting-edge technology can elevate production standards in the B
 eauty sector. &nbsp\;</p>\n\, coesia_editor_manager
X-MICROSOFT-CDO-ALLDAYEVENT:TRUE
DTSTAMP:20260424T044321Z
END:VEVENT
END:VCALENDAR