BEGIN:VCALENDAR
VERSION:2.0
PRODID:https://www.citus-kalix.fr
X-PUBLISHED-TTL:P1W
BEGIN:VEVENT
UID:69ead8c8db0e7
DTSTART;VALUE=DATE:20241103
SEQUENCE:0
TRANSP:OPAQUE
DTEND;VALUE=DATE:20241107
URL:https://www.citus-kalix.fr/en/exhibitions/citus-kalix-at-pack-expo-chic
 ago-2024
LOCATION:CHICAGO (IL)\, USA
SUMMARY:Citus Kalix at PACK EXPO Chicago 2024
CLASS:PUBLIC
X-ALT-DESC;FMTTYPE=text/html:<ul>\n<li><strong>Date:</strong> November 3-6\
 , 2024&nbsp\;</li>\n<li><strong>Location:</strong> McCormick Place Convent
 ion Center\, Chicago\, Illinois&nbsp\;</li>\n<li><strong>Booth:</strong> H
 all South N. S-2501&nbsp\;</li>\n</ul>\n\n<p>Join us in <strong>Chicago</s
 trong> from <strong>November 3rd to 6th</strong>\, to attend <strong>Pack 
 Expo</strong>\, the largest packaging and processing show of the year.</p>
 \n\n<h3>Visit us to enhance your packaging processes</h3>\n\n<p>Take the o
 pportunity to meet our experts and discover our innovative solutions. Lear
 n how our cutting-edge technologies can optimize your operations and enhan
 ce efficiency.</p>\n\n<p>Discover the <strong>KX603</strong>\, our tube fi
 lling machine\, designed to ensure the best user experience in the pharma 
 and beauty industry\, and the <strong>KP600 EVO</strong>\, a compact\, aut
 omatic and easy-to-use cartoner capable of handling delicate pharma and co
 smetic products.</p>\n\n<p><strong>Citus Kalix a part of Coesia</strong><b
 r />\nCitus Kalix will be represented at the <strong>Coesia booth</strong>
  Hall South N. n° S-2501 with our sister companies such as ACMA\, AMACO\,
  AMC\, FlexLink\, G.D\, GF\, HAPA\, MGS\, Norden\, R.A Jones\, VOL
 PAK and PWR (a Coesia partner).</p>\n\n<p>At Coesia\, we understand the 
 complexities of packaging and processing. Our expertise in industrial proc
 ess automation and complex flow automation helps manufacturers meet these 
 challenges efficiently. At our booth\, you will have the opportunity to le
 arn more about our digitally enhanced services\, e-commerce\, and sustaina
 bility\, while having the chance to dive deep into industrial automation w
 ith our latest product launches and solutions\, thanks to our companies.<b
 r />\nWe look forward to meeting you and discussing how we can help stream
 line your packaging processes.</p>\n\, coesia_editor_manager
X-MICROSOFT-CDO-ALLDAYEVENT:TRUE
DTSTAMP:20260424T044320Z
END:VEVENT
END:VCALENDAR