BEGIN:VCALENDAR
VERSION:2.0
PRODID:https://www.citus-kalix.fr
X-PUBLISHED-TTL:P1W
BEGIN:VEVENT
UID:69ead874184c6
DTSTART;VALUE=DATE:20241009
SEQUENCE:0
TRANSP:OPAQUE
DTEND;VALUE=DATE:20241013
URL:https://www.citus-kalix.fr/en/exhibitions/citus-kalix-ravinco-are-parti
 cipating-at-allpack-indonesia
LOCATION:Jakarta\, Indonesia
SUMMARY:Citus Kalix & Ravinco are participating at AllPack Indonesia!
CLASS:PUBLIC
X-ALT-DESC;FMTTYPE=text/html:<ul>\n<li>Kemayoran\, Jakarta – Indonesia\, 
 October 09-12\, 2024</li>\n<li>Booth AC011</li>\n</ul>\n\n<p>Join us at <s
 trong>AllPack Indonesia</strong>\, the international exhibition on process
 ing\, packaging\, automation\, handling for food &amp\; beverage\, pharmac
 eutical and cosmetic.</p>\n\n<h4>Come and experience the excellence of our
  KX 603 tube filler</h4>\n\n<p>Take the opportunity to explore our machine
  designed to ensure the best user experience in the pharma and cosmetic in
 dustry.<br />\n<br />\nExperience flawless results with our precision fill
 ing technology\, ensuring every tube is perfectly filled with accuracy and
  efficiency\, tailored to your product's needs. Compact and easy-to-use\, 
 this machine is particularly suited for production in controlled environme
 nts.</p>\n\n<h4>Live Demo</h4>\n\n<p>Visit Citus Kalix at his Ravinco agen
 t booth #AC011 and meet our team of experts who will demonstrate our packa
 ging solutions live.</p>\n\n<p>We look forward to meeting you at AllPack I
 ndonesia<br />\n&nbsp\;</p>\n\, coesia_editor_manager
X-MICROSOFT-CDO-ALLDAYEVENT:TRUE
DTSTAMP:20260424T044156Z
END:VEVENT
END:VCALENDAR