BEGIN:VCALENDAR
VERSION:2.0
PRODID:https://www.citus-kalix.fr
X-PUBLISHED-TTL:P1W
BEGIN:VEVENT
UID:69eaee7bed668
DTSTART;VALUE=DATE:20241104
SEQUENCE:0
TRANSP:OPAQUE
DTEND;VALUE=DATE:20241108
URL:https://www.citus-kalix.fr/en/exhibitions/visit-citus-kalix-at-all4pack
 -paris
LOCATION:Paris\, France
SUMMARY:Visit Citus Kalix at All4Pack Paris!
CLASS:PUBLIC
X-ALT-DESC;FMTTYPE=text/html:<p>Paris Nord Villepinte\, November 4-7\, 2024
  &nbsp\;</p>\n\n<ul>\n<li>Hall 5A Booth D012&nbsp\;</li>\n<li>Join us at
  All4Pack Paris to discover<strong>&nbsp\;</strong>our cartoning machine t
 he <strong>KP600 EVO</strong>.&nbsp\;<br />\n&nbsp\;</li>\n</ul>\n\n<h4>Ex
 plore our EVO generation innovation!&nbsp\;</h4>\n\n<p>Our experts will in
 troduce our KP600 EVO live! Compact\, automatic\, and easy-to-use cartoner
 \, the KP600 EVO delivers up to 60 parts/minute.&nbsp\;</p>\n\n<p>Thanks t
 o our EVO generation\, life has never been simpler for operators. Designed
  for an optimal flexibility and efficiency\, EVO machines allow quick chan
 geovers and dismantling without tools\, automatic settings controlled dire
 ctly via new HMI and smart interface as well as format set up data registe
 red in a recipe. &nbsp\;&nbsp\;</p>\n\n<h4>Citus Kalix as part of Coesia
  <strong>&nbsp\;</strong></h4>\n\n<p>Coesia supports its customers in ev
 ery step of their manufacturing process\, thanks to a wide portfolio of cu
 tting-edge automation solutions that ensure production reliability and div
 ert operators towards added-value tasks.&nbsp\;</p>\n\n<p>From intelligent
  object picking solutions for material loading and infeed to inline transf
 er\, down to industrial and collaborative robotic solutions for end of lin
 e management\, we are your go-to partner in the journey towards full line 
 automation where a seamless machinery-operator integration results in foot
 print optimization and leaner production flows.&nbsp\;</p>\n\n<p>Discover 
 Coesia’s automation portfolio and learn how to improve production flow e
 fficiency and speed\, making your operations autonomous and lean.&nbsp\;</
 p>\n\n<p>We look forward to welcoming you to All4Pack Paris and discussing
  the future of packaging.&nbsp\;</p>\n\, coesia_editor_manager
X-MICROSOFT-CDO-ALLDAYEVENT:TRUE
DTSTAMP:20260424T061555Z
END:VEVENT
END:VCALENDAR