BEGIN:VCALENDAR
VERSION:2.0
PRODID:https://www.citus-kalix.fr
X-PUBLISHED-TTL:P1W
BEGIN:VEVENT
UID:69ead8d90027a
DTSTART;VALUE=DATE:20240604
SEQUENCE:0
TRANSP:OPAQUE
DTEND;VALUE=DATE:20260425
URL:https://www.citus-kalix.fr/en/exhibitions/citus-kalix-at-expo-pack-mexi
 co
LOCATION:Mexico City\, Mexico
SUMMARY:Citus Kalix at Expo Pack Mexico
CLASS:PUBLIC
X-ALT-DESC;FMTTYPE=text/html:<ul>\n<li>Citus Kalix at Expo Pack Mexico 4-7 
 June in Mexico City</li>\n<li>SIGMAPACK #2434</li>\n<li>Discover our cutti
 ng-edge technologies</li>\n</ul>\n\n<p>Join Citus Kalix\, a Coesia compay\
 , and discover how our packaging machine solutions\, known for their cutti
 ng-edge technology\, can provide you with an undeniable competitive advant
 age in the market.&nbsp\;</p>\n\n<p>Come meet our experts at Sigmapack boo
 th #2434 to discuss your specific needs and explore how the EVO range\, ou
 r new generation of cartoners can optimize your packaging operations.</p>\
 n\n<p>With exceptional flexibility allowing fast changeovers (in less than
  10 minutes) and tool-less part dismantling\, our cartoners are designed t
 o maximize your operational efficiency. The intuitive Human Machine Interf
 ace (HMI) of our cartoners guides the operator through each step of the pr
 ocess\, minimizing the risk of errors and ensuring consistent performance.
 </p>\n\n<p>We look forward to welcoming you at Expo Pack Mexico and discus
 sing with you the benefits that our solutions offer.</p>\n\n<p><strong>Mee
 t us</strong><br />\nExpo Santa Fe Mexico<br />\nExpo Pack Mexico\, 4-7 Ju
 ne 2024<br />\nAv. Santa Fe 270\, Santa Fe\, Zedec Sta Fé &nbsp\;Álvaro 
 Obregón\, 01210&nbsp\;<br />\nCiudad de México\, CDMX\, Mexico<br />\nSI
 GMAPACK #2434</p>\n\, coesia_editor_manager
X-MICROSOFT-CDO-ALLDAYEVENT:TRUE
DTSTAMP:20260424T044337Z
END:VEVENT
END:VCALENDAR