BEGIN:VCALENDAR
VERSION:2.0
PRODID:https://www.citus-kalix.fr
X-PUBLISHED-TTL:P1W
BEGIN:VEVENT
UID:69ead8ef71c49
DTSTART;VALUE=DATE:20191030
SEQUENCE:0
TRANSP:OPAQUE
DTEND;VALUE=DATE:20191103
URL:https://www.citus-kalix.fr/en/exhibitions/allpack-jakarta
LOCATION:Jakarta
SUMMARY:ALLPACK\, JAKARTA
CLASS:PUBLIC
X-ALT-DESC;FMTTYPE=text/html:<p>Welcome to Allpack with Citus Kalix and Rav
 inco Process and Packaging.&nbsp\;</p>\n\, coesia_editor_manager
X-MICROSOFT-CDO-ALLDAYEVENT:TRUE
DTSTAMP:20260424T044359Z
END:VEVENT
END:VCALENDAR