BEGIN:VCALENDAR
VERSION:2.0
PRODID:https://www.citus-kalix.fr
X-PUBLISHED-TTL:P1W
BEGIN:VEVENT
UID:69eb173475929
DTSTART;VALUE=DATE:20190923
SEQUENCE:0
TRANSP:OPAQUE
DTEND;VALUE=DATE:20190926
URL:https://www.citus-kalix.fr/en/exhibitions/pack-expo-las-vegas-packaging
 -trade-show
LOCATION:Las Vegas\, Nevada
SUMMARY:PACK EXPO LAS VEGAS: Packaging trade show
CLASS:PUBLIC
X-ALT-DESC;FMTTYPE=text/html:<p>Citus Kalix&nbsp\;will be at PACK EXPO in L
 as Vegas. The show is open from 9AM to 4PM daily.</p>\n\n<p>FILLING AND CA
 RTONING MACHINES. At Las Vegas Packexpo we will show the new KP600 EVO: th
 e upgraded cartoner that is perfect for those who want a compact\, automat
 ic\, and easy-to-use machine. What makes this machine so interesting for c
 osmetics companies is that it’s not designed for any one particular prod
 uct. It can handle anything from lipstick and foundation to powder compact
 s and mascara!</p>\n\n<p>Welcome to our booth 4400 in the Central Hall.&nb
 sp\;</p>\n\n<p>Click <a href=\"https://www.packexpolasvegas.com/\" target=
 \"_blank\">here</a><a href=\"https://www.citus-kalix.fr/en/news/kp-600-evo
 -bestselling-cartoner-in-even-better-shape\" target=\"_blank\"> </a>for mo
 re info.</p>\n\, coesia_editor_manager
X-MICROSOFT-CDO-ALLDAYEVENT:TRUE
DTSTAMP:20260424T090940Z
END:VEVENT
END:VCALENDAR