BEGIN:VCALENDAR
VERSION:2.0
PRODID:https://www.citus-kalix.fr
X-PUBLISHED-TTL:P1W
BEGIN:VEVENT
UID:69eb1e9d92a22
DTSTART;VALUE=DATE:20181014
SEQUENCE:0
TRANSP:OPAQUE
DTEND;VALUE=DATE:20260425
URL:https://www.citus-kalix.fr/en/exhibitions/chicago-pack-expo
LOCATION:McCormick Place
SUMMARY:Chicago Pack Expo
CLASS:PUBLIC
X-ALT-DESC;FMTTYPE=text/html:<p><strong>Welcome to attend Pack Expo with Ci
 tus Kalix.</strong></p>\n\n<p>At the show we are showing&nbsp\;three techn
 ologies\; tube filling\, cartoning and lipstick molding.</p>\n\, coesia_ed
 itor_manager
X-MICROSOFT-CDO-ALLDAYEVENT:TRUE
DTSTAMP:20260424T094117Z
END:VEVENT
END:VCALENDAR